BEGIN:VCALENDAR
PRODID:-//pikitu.co.nz//EN
CALSCALE:GREGORIAN
VERSION:2.0
METHOD:PUBLISH
BEGIN:VEVENT
DTSTART;TZID=US-Eastern:20100730T160000
DTEND;TZID=US-Eastern:20100731T160000
URL:/calendar/
SUMMARY;CHARSET=UTF-8:Wananga - Ngati Huri Development (Session2)
END:VEVENT
END:VCALENDAR