BEGIN:VCALENDAR
PRODID:-//pikitu.co.nz//EN
CALSCALE:GREGORIAN
VERSION:2.0
METHOD:PUBLISH
BEGIN:VEVENT
DTSTART;TZID=US-Eastern:20101001T000000
DTEND;TZID=US-Eastern:20101002T000000
URL:/calendar/
SUMMARY;CHARSET=UTF-8:Birthday Reeder Whanau 21st
END:VEVENT
END:VCALENDAR