BEGIN:VCALENDAR
PRODID:-//pikitu.co.nz//EN
CALSCALE:GREGORIAN
VERSION:2.0
METHOD:PUBLISH
BEGIN:VEVENT
DTSTART;TZID=US-Eastern:20100522T100000
DTEND;TZID=US-Eastern:20100522T153000
URL:/calendar/
SUMMARY;CHARSET=UTF-8:Environmental Management Plan Workshop
END:VEVENT
END:VCALENDAR