BEGIN:VCALENDAR
PRODID:-//pikitu.co.nz//EN
CALSCALE:GREGORIAN
VERSION:2.0
METHOD:PUBLISH
BEGIN:VEVENT
DTSTART;TZID=US-Eastern:20101225T000000
DTEND;TZID=US-Eastern:20101226T000000
URL:/calendar/
SUMMARY;CHARSET=UTF-8:Marsh Whanau Reunion
END:VEVENT
END:VCALENDAR