BEGIN:VCALENDAR
PRODID:-//pikitu.co.nz//EN
CALSCALE:GREGORIAN
VERSION:2.0
METHOD:PUBLISH
BEGIN:VEVENT
DTSTART;TZID=US-Eastern:20100417T100000
DTEND;TZID=US-Eastern:20100417T160000
URL:/calendar/
SUMMARY;CHARSET=UTF-8:Wananga - Ngati Huri Hapu Development
END:VEVENT
END:VCALENDAR