BEGIN:VCALENDAR
PRODID:-//pikitu.co.nz//EN
CALSCALE:GREGORIAN
VERSION:2.0
METHOD:PUBLISH
BEGIN:VEVENT
DTSTART;TZID=US-Eastern:20101024T150000
DTEND;TZID=US-Eastern:20101024T150000
URL:/calendar/
SUMMARY;CHARSET=UTF-8:AGM Pikitu Marae Trustees
END:VEVENT
END:VCALENDAR