BEGIN:VCALENDAR
PRODID:-//pikitu.co.nz//EN
CALSCALE:GREGORIAN
VERSION:2.0
METHOD:PUBLISH
BEGIN:VEVENT
DTSTART;TZID=US-Eastern:20100319T000000
DTEND;TZID=US-Eastern:20100320T000000
URL:/calendar/
SUMMARY;CHARSET=UTF-8:TWOA Rongoa Maori Course
END:VEVENT
END:VCALENDAR