BEGIN:VCALENDAR
PRODID:-//pikitu.co.nz//EN
CALSCALE:GREGORIAN
VERSION:2.0
METHOD:PUBLISH
BEGIN:VEVENT
DTSTART;TZID=US-Eastern:20101009T000000
DTEND;TZID=US-Eastern:20101010T000000
URL:/calendar/
SUMMARY;CHARSET=UTF-8:Unveiling Newton Mitchell
END:VEVENT
END:VCALENDAR