BEGIN:VCALENDAR
PRODID:-//pikitu.co.nz//EN
CALSCALE:GREGORIAN
VERSION:2.0
METHOD:PUBLISH
BEGIN:VEVENT
DTSTART;TZID=US-Eastern:20091212T190000
DTEND;TZID=US-Eastern:20091212T200000
URL:/calendar/
SUMMARY;CHARSET=UTF-8:Trustees Hui, NHWTT
END:VEVENT
END:VCALENDAR