BEGIN:VCALENDAR
PRODID:-//pikitu.co.nz//EN
CALSCALE:GREGORIAN
VERSION:2.0
METHOD:PUBLISH
BEGIN:VEVENT
DTSTART;TZID=US-Eastern:20091213T100000
DTEND;TZID=US-Eastern:20091213T130000
URL:/calendar/
SUMMARY;CHARSET=UTF-8:AGM Ngati Huri Whenua Topu Trust
END:VEVENT
END:VCALENDAR