BEGIN:VCALENDAR
PRODID:-//pikitu.co.nz//EN
CALSCALE:GREGORIAN
VERSION:2.0
METHOD:PUBLISH
BEGIN:VEVENT
DTSTART;TZID=US-Eastern:20091204T150000
DTEND;TZID=US-Eastern:20091206T150000
URL:/calendar/
SUMMARY;CHARSET=UTF-8:CANCELLED (Te Wananga o Aotearoa - Rongoa Studies)
END:VEVENT
END:VCALENDAR