BEGIN:VCALENDAR
PRODID:-//pikitu.co.nz//EN
CALSCALE:GREGORIAN
VERSION:2.0
METHOD:PUBLISH
BEGIN:VEVENT
DTSTART;TZID=US-Eastern:20091120T150000
DTEND;TZID=US-Eastern:20091122T150000
URL:/calendar/
SUMMARY;CHARSET=UTF-8:Te Wananga o Aotearoa - Rongoa Studies
END:VEVENT
END:VCALENDAR