BEGIN:VCALENDAR
PRODID:-//pikitu.co.nz//EN
CALSCALE:GREGORIAN
VERSION:2.0
METHOD:PUBLISH
BEGIN:VEVENT
DTSTART;TZID=US-Eastern:20090926T173000
DTEND;TZID=US-Eastern:20090926T210000
URL:/calendar/
SUMMARY;CHARSET=UTF-8:Raukawa Maori Language Awards
END:VEVENT
END:VCALENDAR