BEGIN:VCALENDAR
PRODID:-//pikitu.co.nz//EN
CALSCALE:GREGORIAN
VERSION:2.0
METHOD:PUBLISH
BEGIN:VEVENT
DTSTART;TZID=US-Eastern:20090829T100000
DTEND;TZID=US-Eastern:20090829T130000
URL:/calendar/
SUMMARY;CHARSET=UTF-8:Rohe Hui for Te Kaokaoroa o Patetere
END:VEVENT
END:VCALENDAR