BEGIN:VCALENDAR
PRODID:-//pikitu.co.nz//EN
CALSCALE:GREGORIAN
VERSION:2.0
METHOD:PUBLISH
BEGIN:VEVENT
DTSTART;TZID=US-Eastern:20090823T090000
DTEND;TZID=US-Eastern:20090823T150000
URL:/calendar/
SUMMARY;CHARSET=UTF-8:Environmental Maori Planning Fieldtrip to Pikitu Marae
END:VEVENT
END:VCALENDAR