BEGIN:VCALENDAR
PRODID:-//pikitu.co.nz//EN
CALSCALE:GREGORIAN
VERSION:2.0
METHOD:PUBLISH
BEGIN:VEVENT
DTSTART;TZID=US-Eastern:20091120T000000
DTEND;TZID=US-Eastern:20091121T000000
URL:/calendar/
SUMMARY;CHARSET=UTF-8:Dip 2Yr Social Science Te Wananga o Aotearoa
END:VEVENT
END:VCALENDAR