BEGIN:VCALENDAR
PRODID:-//pikitu.co.nz//EN
CALSCALE:GREGORIAN
VERSION:2.0
METHOD:PUBLISH
BEGIN:VEVENT
DTSTART;TZID=US-Eastern:20090905T000000
DTEND;TZID=US-Eastern:20090906T000000
URL:/calendar/
SUMMARY;CHARSET=UTF-8:Unveiling for Aunty Maude Barnett & Aunty Rose (Roy Simmonds)
END:VEVENT
END:VCALENDAR