BEGIN:VCALENDAR
PRODID:-//pikitu.co.nz//EN
CALSCALE:GREGORIAN
VERSION:2.0
METHOD:PUBLISH
BEGIN:VEVENT
DTSTART;TZID=US-Eastern:20090823T100000
DTEND;TZID=US-Eastern:20090823T140000
URL:/calendar/
SUMMARY;CHARSET=UTF-8:POSTPONED *** Pikitu Marae Trustees Hui
END:VEVENT
END:VCALENDAR