BEGIN:VCALENDAR
PRODID:-//pikitu.co.nz//EN
CALSCALE:GREGORIAN
VERSION:2.0
METHOD:PUBLISH
BEGIN:VEVENT
DTSTART;TZID=US-Eastern:20120622T000000
DTEND;TZID=US-Eastern:20120623T000000
URL:/calendar/
SUMMARY;CHARSET=UTF-8: Jack & Treesa Simmonds 65th pot-luck dinner
END:VEVENT
END:VCALENDAR