BEGIN:VCALENDAR
PRODID:-//pikitu.co.nz//EN
CALSCALE:GREGORIAN
VERSION:2.0
METHOD:PUBLISH
BEGIN:VEVENT
DTSTART;TZID=US-Eastern:20110805T000000
DTEND;TZID=US-Eastern:20110806T000000
URL:/calendar/
SUMMARY;CHARSET=UTF-8:Ngira Simmond's Ordination to the Priesthood - 6 August at 10am
END:VEVENT
END:VCALENDAR