BEGIN:VCALENDAR
PRODID:-//pikitu.co.nz//EN
CALSCALE:GREGORIAN
VERSION:2.0
METHOD:PUBLISH
BEGIN:VEVENT
DTSTART;TZID=US-Eastern:20090705T130000
DTEND;TZID=US-Eastern:20090705T150000
URL:/calendar/
SUMMARY;CHARSET=UTF-8:Pikitu Karakia
END:VEVENT
END:VCALENDAR