BEGIN:VCALENDAR
PRODID:-//pikitu.co.nz//EN
CALSCALE:GREGORIAN
VERSION:2.0
METHOD:PUBLISH
BEGIN:VEVENT
DTSTART;TZID=US-Eastern:20110311T000000
DTEND;TZID=US-Eastern:20110313T000000
URL:/calendar/
SUMMARY;CHARSET=UTF-8:Waananga o Aotearoa Rongoa Maori
END:VEVENT
END:VCALENDAR