BEGIN:VCALENDAR
PRODID:-//pikitu.co.nz//EN
CALSCALE:GREGORIAN
VERSION:2.0
METHOD:PUBLISH
BEGIN:VEVENT
DTSTART;TZID=US-Eastern:20110515T100000
DTEND;TZID=US-Eastern:20110515T140000
URL:/calendar/
SUMMARY;CHARSET=UTF-8:Pikitu Marae Trustees & Whenua Topu Trustees Hui
END:VEVENT
END:VCALENDAR