BEGIN:VCALENDAR
PRODID:-//pikitu.co.nz//EN
CALSCALE:GREGORIAN
VERSION:2.0
METHOD:PUBLISH
BEGIN:VEVENT
DTSTART;TZID=US-Eastern:20100917T000000
DTEND;TZID=US-Eastern:20100919T000000
URL:/calendar/
SUMMARY;CHARSET=UTF-8:Te Putaketanga o Te Reo, Te Wananga o Aotearoa
END:VEVENT
END:VCALENDAR