BEGIN:VCALENDAR
PRODID:-//pikitu.co.nz//EN
CALSCALE:GREGORIAN
VERSION:2.0
METHOD:PUBLISH
BEGIN:VEVENT
DTSTART;TZID=US-Eastern:20090626T000000
DTEND;TZID=US-Eastern:20090628T000000
URL:/calendar/
SUMMARY;CHARSET=UTF-8:Birthday
END:VEVENT
END:VCALENDAR